BEGIN:VCALENDAR
VERSION:2.0
PRODID:-//Sabre//Sabre VObject 4.5.8//EN
CALSCALE:GREGORIAN
BEGIN:VEVENT
UID:criticalmass-one-siegburg-1759060800
DTSTAMP:20260424T070457Z
SUMMARY:Kidical Mass Siegburg 28.09.2025
DESCRIPTION:Beschreibung: Die Kidical Masses aus Sankt Augustin\, Siegburg 
 und Lohmar rufen am Sonntag\, den 28.09.2025 wieder zur Kinder-Fahrrad-Dem
 o „Kidical Mass“ auf. Unter dem Motto "Kinder aufs Rad" setzen sich di
 e Teilnehmer•innen für eine kinderfreundliche Verkehrspolitik ein.\n\nS
 onntag\, 28.09.2024 jeweils 14:00 Uhr\nStart Sankt Augustin: Karl-Gatzweil
 er-Platz (vor dem Rathaus)\nStart Siegburg: Pleiser Hecke 4\, RSAG\, Siegb
 urg (https://siegburg.adfc.de/km)\nStart Lohmar Rathausplatz\nGemeinsames 
 Ziel: Markt\, Siegburg – mit Waffeln\, Radparcours\, Getränken und Spie
 lsachen.
DTSTART;TZID=Europe/Berlin:20250928T140000
DTEND;TZID=Europe/Berlin:20250928T160000
LOCATION:Siegburg Pleiser Hecke 4 RSAG
GEO:50.791049;7.206228
URL;VALUE=URI:https://criticalmass.in/siegburg/kidical-mass-siegburg-septem
 ber-2025
END:VEVENT
END:VCALENDAR
