BEGIN:VCALENDAR
VERSION:2.0
PRODID:-//Sabre//Sabre VObject 4.5.8//EN
CALSCALE:GREGORIAN
BEGIN:VEVENT
UID:criticalmass-one-siegburg-1748174400
DTSTAMP:20260424T023212Z
SUMMARY:Kidical Mass Siegburg 25.05.2025
DESCRIPTION:Die Kidical Mass Siegburg fährt gemeinsam mit der KM St. Augus
 tin. Beide Gruppen haben unterschiedliche Startpunkte in ihren Städten un
 d treffen an der Pleiser Hecke zusammen und fahren zum gemeinsamen Ziel am
  Karl-Gatzweiler-Platz in Sankt Augustin. Es gibt dabei die Chance zwische
 ndurch auf Höhe Huma-Parkhaus Rathausallee auszusteigen und bereits vorze
 itig zum Ende zu fahren. Am Ziel wird es dann verschiedene Aktivitäten wi
 e Spielsachen\, Gebäck\, Getränke und eine Fahrradcodierung geben. Toile
 tten sind vorhanden.\nWeitere Infos:\nhttps://sankt-augustin.adfc.de/neuig
 keit/km-20250525
DTSTART;TZID=Europe/Berlin:20250525T140000
DTEND;TZID=Europe/Berlin:20250525T160000
LOCATION:Siegburg Pleiser Hecke RSAG
GEO:50.791049;7.206228
URL;VALUE=URI:https://criticalmass.in/siegburg/kidical-mass-siegburg-mai-20
 25
END:VEVENT
END:VCALENDAR
