BEGIN:VCALENDAR
VERSION:2.0
PRODID:-//Sabre//Sabre VObject 4.5.8//EN
CALSCALE:GREGORIAN
BEGIN:VEVENT
UID:criticalmass-one-siegburg-1747411200
DTSTAMP:20260424T134813Z
SUMMARY:Critical Mass Rhein-Sieg 16.05.2025
DTSTART;TZID=Europe/Berlin:20250516T180000
DTEND;TZID=Europe/Berlin:20250516T200000
LOCATION:Europaplatz\, Siegburg
GEO:50.794448;7.202804
URL;VALUE=URI:https://criticalmass.in/siegburg/2025-05-16
END:VEVENT
END:VCALENDAR
