BEGIN:VCALENDAR
VERSION:2.0
PRODID:-//Sabre//Sabre VObject 4.5.8//EN
CALSCALE:GREGORIAN
BEGIN:VEVENT
UID:criticalmass-one-siegburg-1740157200
DTSTAMP:20260424T132359Z
SUMMARY:Critical Mass Rhein-Sieg 21.02.2025
DTSTART;TZID=Europe/Berlin:20250221T180000
DTEND;TZID=Europe/Berlin:20250221T200000
LOCATION:Europaplatz\, Siegburg
GEO:50.794448;7.202804
URL;VALUE=URI:https://criticalmass.in/siegburg/2025-02-21
END:VEVENT
END:VCALENDAR
