BEGIN:VCALENDAR
VERSION:2.0
PRODID:-//Sabre//Sabre VObject 4.5.8//EN
CALSCALE:GREGORIAN
BEGIN:VEVENT
UID:criticalmass-one-siegburg-1729267200
DTSTAMP:20260424T192716Z
SUMMARY:Critical Mass Rhein-Sieg 18.10.2024
DTSTART;TZID=Europe/Berlin:20241018T180000
DTEND;TZID=Europe/Berlin:20241018T200000
LOCATION:Europaplatz\, Siegburg
GEO:50.794448;7.202804
URL;VALUE=URI:https://criticalmass.in/siegburg/2024-10-18
END:VEVENT
END:VCALENDAR
