BEGIN:VCALENDAR
VERSION:2.0
PRODID:-//Sabre//Sabre VObject 4.5.8//EN
CALSCALE:GREGORIAN
BEGIN:VEVENT
UID:criticalmass-one-siegburg-1727006400
DTSTAMP:20260424T092420Z
SUMMARY:Kidical Mass
DESCRIPTION:Kidical Mass in Siegburg\, alle Infos unter: https://siegburg.a
 dfc.de/km
DTSTART;TZID=Europe/Berlin:20240922T140000
DTEND;TZID=Europe/Berlin:20240922T160000
LOCATION:Neue Poststraße\, Amtsgericht
URL;VALUE=URI:https://criticalmass.in/siegburg/2024-09-22
END:VEVENT
END:VCALENDAR
