BEGIN:VCALENDAR
VERSION:2.0
PRODID:-//Sabre//Sabre VObject 4.5.8//EN
CALSCALE:GREGORIAN
BEGIN:VEVENT
UID:criticalmass-one-siegburg-1726848000
DTSTAMP:20260424T232835Z
SUMMARY:Critical Mass Rhein-Sieg 20.09.2024
DTSTART;TZID=Europe/Berlin:20240920T180000
DTEND;TZID=Europe/Berlin:20240920T200000
LOCATION:Europaplatz\, Siegburg
GEO:50.794448;7.202804
URL;VALUE=URI:https://criticalmass.in/siegburg/2024-09-20
END:VEVENT
END:VCALENDAR
