BEGIN:VCALENDAR
VERSION:2.0
PRODID:-//Sabre//Sabre VObject 4.5.8//EN
CALSCALE:GREGORIAN
BEGIN:VEVENT
UID:criticalmass-one-siegburg-1714910400
DTSTAMP:20260424T220551Z
SUMMARY:Kidical Mass Siegburg 05.05.2024
DTSTART;TZID=Europe/Berlin:20240505T140000
DTEND;TZID=Europe/Berlin:20240505T160000
LOCATION:Markt
GEO:50.796428;7.206087
URL;VALUE=URI:https://criticalmass.in/siegburg/2024-05-05
END:VEVENT
END:VCALENDAR
