BEGIN:VCALENDAR
VERSION:2.0
PRODID:-//Sabre//Sabre VObject 4.5.8//EN
CALSCALE:GREGORIAN
BEGIN:VEVENT
UID:criticalmass-one-siegburg-1713542400
DTSTAMP:20260425T034033Z
SUMMARY:Critical Mass Rhein-Sieg 19.04.2024
DTSTART;TZID=Europe/Berlin:20240419T180000
DTEND;TZID=Europe/Berlin:20240419T200000
LOCATION:Europaplatz\, Siegburg
GEO:50.794448;7.202804
URL;VALUE=URI:https://criticalmass.in/siegburg/2024-04-19
END:VEVENT
END:VCALENDAR
