BEGIN:VCALENDAR
VERSION:2.0
PRODID:-//Sabre//Sabre VObject 4.5.8//EN
CALSCALE:GREGORIAN
BEGIN:VEVENT
UID:criticalmass-one-siegburg-1705683600
DTSTAMP:20260424T092322Z
SUMMARY:Critical Mass Rhein-Sieg 19.01.2024
DTSTART;TZID=Europe/Berlin:20240119T180000
DTEND;TZID=Europe/Berlin:20240119T200000
LOCATION:Europaplatz\, Siegburg
GEO:50.794448;7.202804
URL;VALUE=URI:https://criticalmass.in/siegburg/2024-01-19
END:VEVENT
END:VCALENDAR
