BEGIN:VCALENDAR
VERSION:2.0
PRODID:-//Sabre//Sabre VObject 4.5.8//EN
CALSCALE:GREGORIAN
BEGIN:VEVENT
UID:criticalmass-one-siegburg-1695553200
DTSTAMP:20260424T092415Z
SUMMARY:Kidical Mass Siegburg
DESCRIPTION:Gemeinsam fahren wir mit St. Augustin über die Bonner Straße 
 und danach getrennt in beiden Städten umher. Ziel wird in Siegburg das Ki
 nderfest in der Innenstadt sein.
DTSTART;TZID=Europe/Berlin:20230924T130000
DTEND;TZID=Europe/Berlin:20230924T150000
LOCATION:RSAG Pleiser Hecke 4 nähe Bahnhof
GEO:50.791233;7.205803
URL;VALUE=URI:https://criticalmass.in/siegburg/2023-09-24
END:VEVENT
END:VCALENDAR
