BEGIN:VCALENDAR
VERSION:2.0
PRODID:-//Sabre//Sabre VObject 4.5.8//EN
CALSCALE:GREGORIAN
BEGIN:VEVENT
UID:criticalmass-one-siegburg-1686934800
DTSTAMP:20260424T092316Z
SUMMARY:Critical Mass Siegburg 16.06.2023
DTSTART;TZID=Europe/Berlin:20230616T190000
DTEND;TZID=Europe/Berlin:20230616T210000
LOCATION:Europaplatz
GEO:50.791966;7.206516
URL;VALUE=URI:https://criticalmass.in/siegburg/2023-06-16
END:VEVENT
END:VCALENDAR
