BEGIN:VCALENDAR
VERSION:2.0
PRODID:-//Sabre//Sabre VObject 4.5.8//EN
CALSCALE:GREGORIAN
BEGIN:VEVENT
UID:criticalmass-one-siegburg-1657904400
DTSTAMP:20260424T232831Z
SUMMARY:Critical Mass Siegburg 15.07.2022
DTSTART;TZID=Europe/Berlin:20220715T190000
DTEND;TZID=Europe/Berlin:20220715T210000
LOCATION:Europaplatz
GEO:50.791966;7.206516
URL;VALUE=URI:https://criticalmass.in/siegburg/2022-07-15
END:VEVENT
END:VCALENDAR
