BEGIN:VCALENDAR
VERSION:2.0
PRODID:-//Sabre//Sabre VObject 4.5.8//EN
CALSCALE:GREGORIAN
BEGIN:VEVENT
UID:criticalmass-one-siegburg-1655485200
DTSTAMP:20260423T184940Z
SUMMARY:Critical Mass Siegburg 17.06.2022
DTSTART;TZID=Europe/Berlin:20220617T190000
DTEND;TZID=Europe/Berlin:20220617T210000
LOCATION:Europaplatz
GEO:50.791966;7.206516
URL;VALUE=URI:https://criticalmass.in/siegburg/2022-06-17
END:VEVENT
END:VCALENDAR
