BEGIN:VCALENDAR
VERSION:2.0
PRODID:-//Sabre//Sabre VObject 4.5.8//EN
CALSCALE:GREGORIAN
BEGIN:VEVENT
UID:criticalmass-one-siegburg-1653066000
DTSTAMP:20260424T192740Z
SUMMARY:Critical Mass Siegburg 20.05.2022
DTSTART;TZID=Europe/Berlin:20220520T190000
DTEND;TZID=Europe/Berlin:20220520T210000
LOCATION:Europaplatz
GEO:50.791966;7.206516
URL;VALUE=URI:https://criticalmass.in/siegburg/2022-05-20
END:VEVENT
END:VCALENDAR
