BEGIN:VCALENDAR
VERSION:2.0
PRODID:-//Sabre//Sabre VObject 4.5.8//EN
CALSCALE:GREGORIAN
BEGIN:VEVENT
UID:criticalmass-one-siegburg-1645207200
DTSTAMP:20260423T184942Z
SUMMARY:Critical Mass Siegburg 18.02.2022
DTSTART;TZID=Europe/Berlin:20220218T190000
DTEND;TZID=Europe/Berlin:20220218T210000
LOCATION:Europaplatz
GEO:50.791966;7.206516
URL;VALUE=URI:https://criticalmass.in/siegburg/2022-02-18
END:VEVENT
END:VCALENDAR
