BEGIN:VCALENDAR
VERSION:2.0
PRODID:-//Sabre//Sabre VObject 4.5.8//EN
CALSCALE:GREGORIAN
BEGIN:VEVENT
UID:criticalmass-one-siegburg-1626454800
DTSTAMP:20260424T092327Z
SUMMARY:Critical Mass Siegburg 16.07.2021
DTSTART;TZID=Europe/Berlin:20210716T190000
DTEND;TZID=Europe/Berlin:20210716T210000
LOCATION:Europaplatz
GEO:50.791966;7.206516
URL;VALUE=URI:https://criticalmass.in/siegburg/2021-07-16
END:VEVENT
END:VCALENDAR
