BEGIN:VCALENDAR
VERSION:2.0
PRODID:-//Sabre//Sabre VObject 4.5.8//EN
CALSCALE:GREGORIAN
BEGIN:VEVENT
UID:criticalmass-one-siegburg-1624035600
DTSTAMP:20260425T015120Z
SUMMARY:Critical Mass Siegburg 18.06.2021
DTSTART;TZID=Europe/Berlin:20210618T190000
DTEND;TZID=Europe/Berlin:20210618T210000
LOCATION:Europaplatz
GEO:50.791966;7.206516
URL;VALUE=URI:https://criticalmass.in/siegburg/2021-06-18
END:VEVENT
END:VCALENDAR
