BEGIN:VCALENDAR
VERSION:2.0
PRODID:-//Sabre//Sabre VObject 4.5.8//EN
CALSCALE:GREGORIAN
BEGIN:VEVENT
UID:criticalmass-one-siegburg-1613757600
DTSTAMP:20260423T171719Z
SUMMARY:Critical Mass Siegburg 19.02.2021
DTSTART;TZID=Europe/Berlin:20210219T190000
DTEND;TZID=Europe/Berlin:20210219T210000
LOCATION:Europaplatz
GEO:50.791966;7.206516
URL;VALUE=URI:https://criticalmass.in/siegburg/2021-02-19
END:VEVENT
END:VCALENDAR
