BEGIN:VCALENDAR
VERSION:2.0
PRODID:-//Sabre//Sabre VObject 4.5.8//EN
CALSCALE:GREGORIAN
BEGIN:VEVENT
UID:criticalmass-one-siegburg-1582308000
DTSTAMP:20260423T201043Z
SUMMARY:Critical Mass Siegburg 21.02.2020
DTSTART;TZID=Europe/Berlin:20200221T190000
DTEND;TZID=Europe/Berlin:20200221T210000
LOCATION:Europaplatz
GEO:50.791966;7.206516
URL;VALUE=URI:https://criticalmass.in/siegburg/2020-02-21
END:VEVENT
END:VCALENDAR
