BEGIN:VCALENDAR
VERSION:2.0
PRODID:-//Sabre//Sabre VObject 4.5.8//EN
CALSCALE:GREGORIAN
BEGIN:VEVENT
UID:criticalmass-one-siegburg-1579284000
DTSTAMP:20260424T104522Z
SUMMARY:Critical Mass Siegburg 17.01.2020
DTSTART;TZID=Europe/Berlin:20200117T190000
DTEND;TZID=Europe/Berlin:20200117T210000
LOCATION:Europaplatz
GEO:50.791966;7.206516
URL;VALUE=URI:https://criticalmass.in/siegburg/2020-01-17
END:VEVENT
END:VCALENDAR
