BEGIN:VCALENDAR
VERSION:2.0
PRODID:-//Sabre//Sabre VObject 4.5.8//EN
CALSCALE:GREGORIAN
BEGIN:VEVENT
UID:criticalmass-one-siegburg-1576864800
DTSTAMP:20260425T164632Z
SUMMARY:Critical Mass Siegburg 20.12.2019
DTSTART;TZID=Europe/Berlin:20191220T190000
DTEND;TZID=Europe/Berlin:20191220T210000
LOCATION:Europaplatz
GEO:50.791966;7.206516
URL;VALUE=URI:https://criticalmass.in/siegburg/2019-12-20
END:VEVENT
END:VCALENDAR
