BEGIN:VCALENDAR
VERSION:2.0
PRODID:-//Sabre//Sabre VObject 4.5.8//EN
CALSCALE:GREGORIAN
BEGIN:VEVENT
UID:criticalmass-one-siegburg-1555693200
DTSTAMP:20260422T110029Z
SUMMARY:Critical Mass Sieg-Burg 19.04.2019
DTSTART;TZID=Europe/Berlin:20190419T190000
DTEND;TZID=Europe/Berlin:20190419T210000
LOCATION:Europaplatz
GEO:50.791966;7.206516
URL;VALUE=URI:https://criticalmass.in/siegburg/2019-04-19
END:VEVENT
END:VCALENDAR
