BEGIN:VCALENDAR
VERSION:2.0
PRODID:-//Sabre//Sabre VObject 4.5.8//EN
CALSCALE:GREGORIAN
BEGIN:VEVENT
UID:criticalmass-one-siegburg-1534525200
DTSTAMP:20260425T181917Z
SUMMARY:Critical Mass Sieg-Burg 17.08.2018
DTSTART;TZID=Europe/Berlin:20180817T190000
DTEND;TZID=Europe/Berlin:20180817T210000
LOCATION:Europaplatz
GEO:50.791966;7.206516
URL;VALUE=URI:https://criticalmass.in/siegburg/2018-08-17
END:VEVENT
END:VCALENDAR
