BEGIN:VCALENDAR
VERSION:2.0
PRODID:-//Sabre//Sabre VObject 4.5.8//EN
CALSCALE:GREGORIAN
BEGIN:VEVENT
UID:criticalmass-one-siegburg-1529082000
DTSTAMP:20260424T002512Z
SUMMARY:Critical Mass Sieg-Burg 15.06.2018
DTSTART;TZID=Europe/Berlin:20180615T190000
DTEND;TZID=Europe/Berlin:20180615T210000
LOCATION:Europaplatz
GEO:50.791966;7.206516
URL;VALUE=URI:https://criticalmass.in/siegburg/2018-06-15
END:VEVENT
END:VCALENDAR
