BEGIN:VCALENDAR
VERSION:2.0
PRODID:-//Sabre//Sabre VObject 4.5.8//EN
CALSCALE:GREGORIAN
BEGIN:VEVENT
UID:criticalmass-one-selm-1683464400
DTSTAMP:20260423T185253Z
SUMMARY:Kidical Mass Selm 07.05.2023
DTSTART;TZID=Europe/Berlin:20230507T150000
DTEND;TZID=Europe/Berlin:20230507T170000
GEO:51.695718;7.467609
URL;VALUE=URI:https://criticalmass.in/selm/kidical-mass-selm-mai-2023
END:VEVENT
END:VCALENDAR
