BEGIN:VCALENDAR
VERSION:2.0
PRODID:-//Sabre//Sabre VObject 4.5.8//EN
CALSCALE:GREGORIAN
BEGIN:VEVENT
UID:criticalmass-one-seevetal-1678471200
DTSTAMP:20260425T164834Z
SUMMARY:Critical Mass Seevetal im März 2023
DESCRIPTION:Dieser Freitag scheint ein guter Tag für eine Fahrt im Schnee 
 zu werden. Mit 16 und mehr Personen könnte man sogar die selbstverständl
 ich geräumte Fahrbahn benutzen. Mal sehen\, was an der Volksbank in Masch
 en so los ist.
DTSTART;TZID=Europe/Berlin:20230310T190000
DTEND;TZID=Europe/Berlin:20230310T210000
LOCATION:Vor der Volksbank in Maschen
GEO:53.391627;10.036869
URL;VALUE=URI:https://criticalmass.in/seevetal/2023-03-10
END:VEVENT
END:VCALENDAR
