BEGIN:VCALENDAR
VERSION:2.0
PRODID:-//Sabre//Sabre VObject 4.5.8//EN
CALSCALE:GREGORIAN
BEGIN:VEVENT
UID:criticalmass-one-seattle-1769853600
DTSTAMP:20260421T085119Z
SUMMARY:Alex Pretti Memorial Ride Tacoma — Goldspoke Mobile Bike  Repair
DESCRIPTION:This Saturday: meet at 2nd Cycle Community Cycle Center at 11 a
 .m. for a 11:30 a.m.\n  roll-out.
DTSTART;TZID=Europe/Berlin:20260131T110000
DTEND;TZID=Europe/Berlin:20260131T130000
LOCATION:2nd Cycle Community Cycle Center\, Tacoma
GEO:47.250737;-122.451094
URL;VALUE=URI:https://criticalmass.in/seattle/alex-pretti-memorial-ride-tac
 oma-2026-01-31
END:VEVENT
END:VCALENDAR
