BEGIN:VCALENDAR
VERSION:2.0
PRODID:-//Sabre//Sabre VObject 4.5.8//EN
CALSCALE:GREGORIAN
BEGIN:VEVENT
UID:criticalmass-one-schwerte-1707494400
DTSTAMP:20260422T224241Z
SUMMARY:Critical Mass Schwerte 09.02.2024
DTSTART;TZID=Europe/Berlin:20240209T170000
DTEND;TZID=Europe/Berlin:20240209T190000
LOCATION:Vor dem Bahnhof
GEO:51.442170;7.559815
URL;VALUE=URI:https://criticalmass.in/schwerte/2024-02-09
END:VEVENT
END:VCALENDAR
