BEGIN:VCALENDAR
VERSION:2.0
PRODID:-//Sabre//Sabre VObject 4.5.8//EN
CALSCALE:GREGORIAN
BEGIN:VEVENT
UID:criticalmass-one-schwerte-1649430000
DTSTAMP:20260425T014006Z
SUMMARY:Critical Mass Schwerte 08.04.2022
DTSTART;TZID=Europe/Berlin:20220408T170000
DTEND;TZID=Europe/Berlin:20220408T190000
LOCATION:Vor dem Bahnhof
GEO:51.442170;7.559815
URL;VALUE=URI:https://criticalmass.in/schwerte/2022-04-08
END:VEVENT
END:VCALENDAR
