BEGIN:VCALENDAR
VERSION:2.0
PRODID:-//Sabre//Sabre VObject 4.5.8//EN
CALSCALE:GREGORIAN
BEGIN:VEVENT
UID:criticalmass-one-schwerte-1647014400
DTSTAMP:20260425T021158Z
SUMMARY:Critical Mass Schwerte 11.03.2022
DTSTART;TZID=Europe/Berlin:20220311T170000
DTEND;TZID=Europe/Berlin:20220311T190000
LOCATION:Vor dem Bahnhof
GEO:51.442170;7.559815
URL;VALUE=URI:https://criticalmass.in/schwerte/2022-03-11
END:VEVENT
END:VCALENDAR
