BEGIN:VCALENDAR
VERSION:2.0
PRODID:-//Sabre//Sabre VObject 4.5.8//EN
CALSCALE:GREGORIAN
BEGIN:VEVENT
UID:criticalmass-one-schwerte-1625842800
DTSTAMP:20260424T115948Z
SUMMARY:Critical Mass Schwerte 09.07.2021
DTSTART;TZID=Europe/Berlin:20210709T170000
DTEND;TZID=Europe/Berlin:20210709T190000
LOCATION:Vor dem Bahnhof
GEO:51.442170;7.559815
URL;VALUE=URI:https://criticalmass.in/schwerte/2021-07-09
END:VEVENT
END:VCALENDAR
