BEGIN:VCALENDAR
VERSION:2.0
PRODID:-//Sabre//Sabre VObject 4.5.8//EN
CALSCALE:GREGORIAN
BEGIN:VEVENT
UID:criticalmass-one-schwerte-1613145600
DTSTAMP:20260425T181026Z
SUMMARY:Critical Mass Schwerte 12.02.2021
DTSTART;TZID=Europe/Berlin:20210212T170000
DTEND;TZID=Europe/Berlin:20210212T190000
LOCATION:Vor dem Bahnhof
GEO:51.442170;7.559815
URL;VALUE=URI:https://criticalmass.in/schwerte/2021-02-12
END:VEVENT
END:VCALENDAR
