BEGIN:VCALENDAR
VERSION:2.0
PRODID:-//Sabre//Sabre VObject 4.5.8//EN
CALSCALE:GREGORIAN
BEGIN:VEVENT
UID:criticalmass-one-schwerte-1599836400
DTSTAMP:20260423T020018Z
SUMMARY:Critical Mass Schwerte 11.09.2020
DTSTART;TZID=Europe/Berlin:20200911T170000
DTEND;TZID=Europe/Berlin:20200911T190000
LOCATION:Vor dem Bahnhof
GEO:51.442170;7.559815
URL;VALUE=URI:https://criticalmass.in/schwerte/2020-09-11
END:VEVENT
END:VCALENDAR
