BEGIN:VCALENDAR
VERSION:2.0
PRODID:-//Sabre//Sabre VObject 4.5.8//EN
CALSCALE:GREGORIAN
BEGIN:VEVENT
UID:criticalmass-one-schwerte-1594393200
DTSTAMP:20260423T093238Z
SUMMARY:Critical Mass Schwerte 10.07.2020
DTSTART;TZID=Europe/Berlin:20200710T170000
DTEND;TZID=Europe/Berlin:20200710T190000
LOCATION:Vor dem Bahnhof
GEO:51.442170;7.559815
URL;VALUE=URI:https://criticalmass.in/schwerte/2020-07-10
END:VEVENT
END:VCALENDAR
