BEGIN:VCALENDAR
VERSION:2.0
PRODID:-//Sabre//Sabre VObject 4.5.8//EN
CALSCALE:GREGORIAN
BEGIN:VEVENT
UID:criticalmass-one-schwerte-1570806000
DTSTAMP:20260424T064924Z
SUMMARY:Critical Mass Schwerte 11.10.2019
DTSTART;TZID=Europe/Berlin:20191011T170000
DTEND;TZID=Europe/Berlin:20191011T190000
LOCATION:Vor dem Bahnhof
GEO:51.442170;7.559815
URL;VALUE=URI:https://criticalmass.in/schwerte/2019-10-11
END:VEVENT
END:VCALENDAR
