BEGIN:VCALENDAR
VERSION:2.0
PRODID:-//Sabre//Sabre VObject 4.5.8//EN
CALSCALE:GREGORIAN
BEGIN:VEVENT
UID:criticalmass-one-schwerte-1567177200
DTSTAMP:20260423T015252Z
SUMMARY:Critical Mass Schwerte 30.08.2019
DTSTART;TZID=Europe/Berlin:20190830T170000
DTEND;TZID=Europe/Berlin:20190830T190000
LOCATION:Vor dem Bahnhof
GEO:51.442170;7.559815
URL;VALUE=URI:https://criticalmass.in/schwerte/2019-08-30
END:VEVENT
END:VCALENDAR
