BEGIN:VCALENDAR
VERSION:2.0
PRODID:-//Sabre//Sabre VObject 4.5.8//EN
CALSCALE:GREGORIAN
BEGIN:VEVENT
UID:criticalmass-one-schwerte-1550851200
DTSTAMP:20260423T111731Z
SUMMARY:Critical Mass Schwerte 22.02.2019
DTSTART;TZID=Europe/Berlin:20190222T170000
DTEND;TZID=Europe/Berlin:20190222T190000
LOCATION:Vor dem Bahnhof
GEO:51.442170;7.559815
URL;VALUE=URI:https://criticalmass.in/schwerte/2019-02-22
END:VEVENT
END:VCALENDAR
