BEGIN:VCALENDAR
VERSION:2.0
PRODID:-//Sabre//Sabre VObject 4.5.8//EN
CALSCALE:GREGORIAN
BEGIN:VEVENT
UID:criticalmass-one-schwerte-1532703600
DTSTAMP:20260424T091851Z
SUMMARY:Critical Mass Schwerte 27.07.2018
DTSTART;TZID=Europe/Berlin:20180727T170000
DTEND;TZID=Europe/Berlin:20180727T190000
LOCATION:Vor dem Bahnhof
GEO:51.442170;7.559815
URL;VALUE=URI:https://criticalmass.in/schwerte/2018-07-27
END:VEVENT
END:VCALENDAR
