BEGIN:VCALENDAR
VERSION:2.0
PRODID:-//Sabre//Sabre VObject 4.5.8//EN
CALSCALE:GREGORIAN
BEGIN:VEVENT
UID:criticalmass-one-schwerte-1490972400
DTSTAMP:20260425T193540Z
SUMMARY:Critical Mass Schwerte 31.03.2017
DTSTART;TZID=Europe/Berlin:20170331T170000
DTEND;TZID=Europe/Berlin:20170331T190000
LOCATION:Vor dem Bahnhof
GEO:51.442170;7.559815
URL;VALUE=URI:https://criticalmass.in/schwerte/2017-03-31
END:VEVENT
END:VCALENDAR
