BEGIN:VCALENDAR
VERSION:2.0
PRODID:-//Sabre//Sabre VObject 4.5.8//EN
CALSCALE:GREGORIAN
BEGIN:VEVENT
UID:criticalmass-one-schwerte-1485529200
DTSTAMP:20260423T001944Z
SUMMARY:Critical Mass Schwerte 27.01.2017
DTSTART;TZID=Europe/Berlin:20170127T160000
DTEND;TZID=Europe/Berlin:20170127T180000
LOCATION:Vor dem Bahnhof
GEO:51.442170;7.559815
URL;VALUE=URI:https://criticalmass.in/schwerte/2017-01-27
END:VEVENT
END:VCALENDAR
