BEGIN:VCALENDAR
VERSION:2.0
PRODID:-//Sabre//Sabre VObject 4.5.8//EN
CALSCALE:GREGORIAN
BEGIN:VEVENT
UID:criticalmass-one-schwerte-1466780400
DTSTAMP:20260424T103530Z
SUMMARY:Critical Mass Schwerte 24.06.2016
DTSTART;TZID=Europe/Berlin:20160624T170000
DTEND;TZID=Europe/Berlin:20160624T190000
LOCATION:Vor dem Bahnhof
GEO:51.442170;7.559815
URL;VALUE=URI:https://criticalmass.in/schwerte/2016-06-24
END:VEVENT
END:VCALENDAR
