BEGIN:VCALENDAR
VERSION:2.0
PRODID:-//Sabre//Sabre VObject 4.5.8//EN
CALSCALE:GREGORIAN
BEGIN:VEVENT
UID:criticalmass-one-schwerte-1429887600
DTSTAMP:20260423T063224Z
SUMMARY:Critical Mass Schwerte 24.04.2015
DTSTART;TZID=Europe/Berlin:20150424T170000
DTEND;TZID=Europe/Berlin:20150424T190000
LOCATION:Vor dem Bahnhof
GEO:51.442170;7.559815
URL;VALUE=URI:https://criticalmass.in/schwerte/2015-04-24
END:VEVENT
END:VCALENDAR
