BEGIN:VCALENDAR
VERSION:2.0
PRODID:-//Sabre//Sabre VObject 4.5.8//EN
CALSCALE:GREGORIAN
BEGIN:VEVENT
UID:criticalmass-one-schwerte-1417190400
DTSTAMP:20260423T191744Z
SUMMARY:Critical Mass Schwerte 28.11.2014
DTSTART;TZID=Europe/Berlin:20141128T170000
DTEND;TZID=Europe/Berlin:20141128T190000
LOCATION:Vor dem Bahnhof
GEO:51.442170;7.559815
URL;VALUE=URI:https://criticalmass.in/schwerte/2014-11-28
END:VEVENT
END:VCALENDAR
