BEGIN:VCALENDAR
VERSION:2.0
PRODID:-//Sabre//Sabre VObject 4.5.8//EN
CALSCALE:GREGORIAN
BEGIN:VEVENT
UID:criticalmass-one-schwerte-1409389200
DTSTAMP:20260423T044930Z
SUMMARY:Critical Mass Schwerte 30.08.2014
DTSTART;TZID=Europe/Berlin:20140830T110000
DTEND;TZID=Europe/Berlin:20140830T130000
LOCATION:Vor dem Bahnhof
GEO:51.442170;7.559815
URL;VALUE=URI:https://criticalmass.in/schwerte/2014-08-30
END:VEVENT
END:VCALENDAR
