BEGIN:VCALENDAR
VERSION:2.0
PRODID:-//Sabre//Sabre VObject 4.5.8//EN
CALSCALE:GREGORIAN
BEGIN:VEVENT
UID:criticalmass-one-schwerte-1406365200
DTSTAMP:20260424T032956Z
SUMMARY:Critical Mass Schwerte 26.07.2014
DTSTART;TZID=Europe/Berlin:20140726T110000
DTEND;TZID=Europe/Berlin:20140726T130000
LOCATION:Vor dem Bahnhof
GEO:51.442170;7.559815
URL;VALUE=URI:https://criticalmass.in/schwerte/2014-07-26
END:VEVENT
END:VCALENDAR
