BEGIN:VCALENDAR
VERSION:2.0
PRODID:-//Sabre//Sabre VObject 4.5.8//EN
CALSCALE:GREGORIAN
BEGIN:VEVENT
UID:criticalmass-one-schwerte-1403881200
DTSTAMP:20260424T231529Z
SUMMARY:Critical Mass Schwerte 27.06.2014
DTSTART;TZID=Europe/Berlin:20140627T170000
DTEND;TZID=Europe/Berlin:20140627T190000
LOCATION:Vor dem Bahnhof
GEO:51.442170;7.559815
URL;VALUE=URI:https://criticalmass.in/schwerte/2014-06-27
END:VEVENT
END:VCALENDAR
