BEGIN:VCALENDAR
VERSION:2.0
PRODID:-//Sabre//Sabre VObject 4.5.8//EN
CALSCALE:GREGORIAN
BEGIN:VEVENT
UID:criticalmass-one-schwerte-1398438000
DTSTAMP:20260425T001537Z
SUMMARY:Critical Mass Schwerte 25.04.2014
DTSTART;TZID=Europe/Berlin:20140425T170000
DTEND;TZID=Europe/Berlin:20140425T190000
LOCATION:Vor dem Bahnhof
GEO:51.442170;7.559815
URL;VALUE=URI:https://criticalmass.in/schwerte/2014-04-25
END:VEVENT
END:VCALENDAR
