BEGIN:VCALENDAR
VERSION:2.0
PRODID:-//Sabre//Sabre VObject 4.5.8//EN
CALSCALE:GREGORIAN
BEGIN:VEVENT
UID:criticalmass-one-schwabisch-gmund-1652529600
DTSTAMP:20260423T213612Z
SUMMARY:Kidical Mass Schwäbisch Gmünd 14.05.2022
DTSTART;TZID=Europe/Berlin:20220514T140000
DTEND;TZID=Europe/Berlin:20220514T160000
LOCATION:EULE
GEO:48.801069;9.786673
URL;VALUE=URI:https://criticalmass.in/schwabisch-gmund/kidical-mass-schwabi
 sch-gmund-mai-2022
END:VEVENT
END:VCALENDAR
