BEGIN:VCALENDAR
VERSION:2.0
PRODID:-//Sabre//Sabre VObject 4.5.8//EN
CALSCALE:GREGORIAN
BEGIN:VEVENT
UID:criticalmass-one-schwabisch-gmund-1774026000
DTSTAMP:20260426T011342Z
SUMMARY:Critical Mass Schwäbisch Gmünd 20.03.2026
DTSTART;TZID=Europe/Berlin:20260320T180000
DTEND;TZID=Europe/Berlin:20260320T200000
LOCATION:Bahnhof Schwäbisch Gmünd
GEO:48.800843;9.788389
URL;VALUE=URI:https://criticalmass.in/schwabisch-gmund/2026-03-20
END:VEVENT
END:VCALENDAR
